BEGIN:VCALENDAR
VERSION:2.0
PRODID:https://github.com/derhansen/sf_event_mgt
METHOD:PUBLISH
BEGIN:VEVENT
UID:1822-7593@www.iga2027.ruhr
CLASS: PUBLIC
SUMMARY:2. Offene Gartenpforte Ruhrgebiet im Juni
DESCRIPTION:Am 13. und 14. Juni 2026 öffnen Gärten im gesamten Ruhrgebiet i
 hre Pforten und laden zu zwei Tagen voller Entdeckungen, Begegnungen und In
 spirationen ein. Von liebevoll gepflegten Privatgärten über Gemeinschaftspr
 ojekte bis hin zu innovativen urbanen Gärten - die Offene Gartenpforte Ruhr
  2026 bringt Menschen in ihren eigenen Gärten zusammen und schafft eine Pla
 ttform für Austausch und Vernetzung.\n\nAufruf zur Anmeldung - Öffne Deinen
  Garten und mach mit\n\nDu steckst viel Arbeit und Liebe in Deinen Garten u
 nd teilst Deine Freude darüber gern mit anderen? Du liebst es, Dich mit and
 eren Gartenfans auszutauschen und gibst auch Deine Garten-Tipps gern weiter
 ? \n\nDann mach mit bei der „Offenen Gartenpforte Ruhrgebiet“ 2026!\n\nDie 
 Aktion ist kein Wettbewerb – hier geht es um Leidenschaft, Austausch und Ga
 rtenfreude. Dein Garten muss keine bestimmten Kriterien erfüllen, er sollte
  lediglich im Ruhrgebiet liegen und mit Herzblut gepflegt sein. Ob kleiner 
 Stadtgarten, blühende Oase oder naturnahes Paradies – jeder Garten, der Ins
 piration und Gesprächsstoff bietet, ist willkommen. Erlebe spannende Begegn
 ungen, neue Kontakte und bereichernde Gespräche unter Gartenliebhaber*innen
 . \n\nWenn du dir unsicher bist, ob dein Garten passt, schreib uns gerne an
 ! Wir helfen dir mit einer persönlichen Einschätzung weiter.\n\nDie Teilnah
 me ist kostenlos – als Dankeschön erhältst du ein Mitmach-Paket von der IGA
  2027. Alle teilnehmenden Gärten werden außerdem auf der Website der IGA 20
 27 Ruhrgebiet veröffentlicht und auf einer interaktiven Karte sichtbar gema
 cht.\n\njetzt anmelden
DTSTAMP:20260326T153254Z
DTSTART:20260613T090000Z
DTEND:20260614T150000Z
END:VEVENT
END:VCALENDAR
