BEGIN:VCALENDAR
VERSION:2.0
PRODID:https://github.com/derhansen/sf_event_mgt
METHOD:PUBLISH
BEGIN:VEVENT
UID:1721-7593@www.iga2027.ruhr
CLASS: PUBLIC
SUMMARY:Gartentag im Gemeinschaftsgarten Hof Bergman
DESCRIPTION:Der Gartentag im Gemeinschaftsgarten Hof Bergmann lädt dazu ein
 , ökologische Gartenpraxis gemeinsam zu erleben – jeden Samstag von 11:00 b
 is 18:30 Uhr. Ob erfahrene Gärtner*innen oder neugierige Einsteiger*innen –
  hier werden Gemüse und Obst angebaut, gepflegt und geerntet.Dabei entdecke
 n wir die Vielfalt von Pflanzen und Insekten, fördern aktiv die Biodiversit
 ät und erleben, wie ein ökologisches Miteinander von Flora und Fauna funkti
 oniert. Gemeinschaftliches Tun, Austausch und Mahlzeiten aus der Ernte mach
 en den Gartentag zu einem lebendigen Erlebnis für alle Teilnehmenden.
LOCATION:Gemeinschaftsgarten Hof Bergmann
DTSTAMP:20260115T131815Z
DTSTART:20260509T090000Z
DTEND:20260509T160000Z
END:VEVENT
END:VCALENDAR
