BEGIN:VCALENDAR
VERSION:2.0
PRODID:https://github.com/derhansen/sf_event_mgt
METHOD:PUBLISH
BEGIN:VEVENT
UID:2015-7593@www.iga2027.ruhr
CLASS: PUBLIC
SUMMARY:Gutes Klima Festival 2026
DESCRIPTION:Das Gute Klima Festival findet seit 2021 in Essen einmal im Jah
 r statt und bietet ein Forum für Klimaschutz, Nachhaltigkeit sowie soziales
  Miteinander. Wir bringen Wind unter die Flügel der vielen Projekte, die si
 ch für ein gutes soziales UND meteorologisches Klima sowie ein nachhaltiges
  Leben in Essen und darüber hinaus mit viel Engagement einsetzen. \n\nWir f
 ördern und feiern ein „gutes Klima“ mit der Stadtgesellschaft mit allem, wa
 s dazu gehört:\n\nmit gutem Essen und Trinken - aber anders eben mit rein v
 egan-vegetarischen Angeboten von Essener Gastronom:innen und Ehrenamtlichen
 mit einem reizvollen kulturellen Rahmen mit PopUp-Musik und -Theater, Walki
 ng Acts und Akrobatik - fürs Herz und die Aufenthaltsqualitätmit unzähligen
  Mitmachangeboten von Engagierten aus der Essener Stadtgesellschaft und auc
 h darüber hinaus\n\nWir schaffen ein Erlebnis, das Klimaschutz und gesellsc
 haftlichen Zusammenhalt positiv kommuniziert und einen bleibenden und somit
  nachhaltigen Eindruck zum Nach- und Mitmachen mit nach Hause gibt.2026 hab
 en wir drei Schwerpunktthemen: "Campus der Ernährungsräte in NRW", "GreenBu
 siness 2.0" und "Young Empowerment".Ihr seid im "GreenBusiness" unterwegs? 
 Meldet euch bei uns für mehr Informationen! Ihr unterstützt oder engagiert 
 euch zusammen mit jungen Menschen für gutes Klima (auch das gesellschaftlic
 he)?Wir freuen uns, wenn ihr mit uns Kontakt aufnehmt und dann natürlich da
 bei seid! Anmeldezeitraum: 13.4.-19.5.26 \n\nWer sind wir eigentlich?Das Gu
 te Klima Festival 2026 wird veranstaltet von \n\nGemeinsam für Stadtwandel 
 EssenAltenessen.blüht, LIV Essen e.V.Zeche Carl in Kooperation mit der Grün
 e Hauptstadt Agentur der Stadt Essen \n\nHier geht es zur Webseite: www.gut
 esklimafestival.de
LOCATION:Zeche Carl
DTSTAMP:20260128T112622Z
DTSTART:20260711T100000Z
DTEND:20260711T160000Z
END:VEVENT
END:VCALENDAR
