BEGIN:VCALENDAR
VERSION:2.0
PRODID:https://github.com/derhansen/sf_event_mgt
METHOD:PUBLISH
BEGIN:VEVENT
UID:1828-7593@www.iga2027.ruhr
CLASS: PUBLIC
SUMMARY:Letzte Hilfe Kurs
DESCRIPTION:Es werden Inhalte vermittelt, die Mut machen sollen, Menschen a
 uf ihrem letzten Weg zu begleiten.Der vierstündige Kurs besteht aus vier Mo
 dulen:- Sterben als ein Teil des Lebens- Vorsorgen und entscheiden- Leiden 
 Lindern- Abschied nehmen"Lebendig und leicht trotz schwerem Thema." (Kommen
 tar eines Teilnehmers)"Gut, das wir durch den Letzten Hilfe Kurs wussten, w
 as zu tun war... " (Kommentar einer Teilnehmerin)Wir bieten regelmäßig Kurs
 e, auch in einfacher Sprache, für Erwachsene, Kids und Teens an.Anmeldungen
  über den DASA Besucherdienst:DASA Telefon: 0231-90712645DASA-Email: besuch
 erdienst-dasa@baua.bund.de
LOCATION:DASA Arbeitswelt Ausstellung
DTSTAMP:20260122T131918Z
DTSTART:20260708T090000Z
DTEND:20260708T130000Z
END:VEVENT
END:VCALENDAR
