BEGIN:VCALENDAR
VERSION:2.0
PRODID:https://github.com/derhansen/sf_event_mgt
METHOD:PUBLISH
BEGIN:VEVENT
UID:2415-7593@www.iga2027.ruhr
CLASS: PUBLIC
SUMMARY:Mein naturnaher Lieblingsgarten
DESCRIPTION:Die Referentin Ute Bienengräber-Killmann (Präsidentin und Berat
 erin von Natur im Garten NRW. e.V. ) wird praxisnahe Beispiele präsentieren
 , mit denen man den eigenen Garten auch mit kleinen Weiterentwicklungen wer
 tvoller für die heimische Tier- und Pflanzenwelt gestalten kann. Dabei ist 
 es ein besonderes Anliegen des Vereins, Bürgerinnen und Bürger zu motiviere
 n und dabei zu unterstützen, gerne auch durch viele kleine Schritte Natur i
 m Garten zu fördern und zu einer großen Bewegung weiterzuentwickeln. Weiter
 e Infos unter www.NaturimGarten.nrw\n\n\n\n
LOCATION:Pop-Up-IGA Gelsenkirchen
DTSTAMP:20260415T072556Z
DTSTART:20260526T150000Z
DTEND:20260526T170000Z
END:VEVENT
END:VCALENDAR
