BEGIN:VCALENDAR
VERSION:2.0
PRODID:https://github.com/derhansen/sf_event_mgt
METHOD:PUBLISH
BEGIN:VEVENT
UID:2240-7593@www.iga2027.ruhr
CLASS: PUBLIC
SUMMARY:Offene Gartenpforte im Garten Liba
DESCRIPTION:Wir öffnen unser Gartentor für Besucher. Der Garten ist Teil ei
 ner Kleingartenanlage und wurde vom Nabu als Schmetterlingsfreundlicher Gar
 ten ausgezeichnet. Wir haben 630 qm aufgeteilt in einen Nutz/Ziergarten. Es
  gibt Gemüse, ein Beerenbeet, Obstbäume und Staudenbeete in der Sonne und i
 m Schatten. Eine kleine Leidenschaft sind Ziersalbei in allen Farben und di
 e kleinen mini Hosta, die in kleinen Töpfen überall im Schatten einen Platz
  finden. Eine alte Nähmaschine hat auch ihren Platz gefunden und viele ande
 re Deko aus vergangener Zeit steht zwischen den Pflanzen. Garten ist für un
 s Liebe und nicht Arbeit. Wir bieten Kaffee und selbstgebackenen Kuchen an,
  den man auf verschieden Sitzplätzen und Strandkörben genießen kann. Auf Ei
 ntritt verzichten wir, zu Gunsten einer Spende für das Hospitz in Minden /L
 übecke.\n\nWeitere Termine unserer offene Gartenpforte\n\n14. Juni 202619. 
 Juli 20269. August 2026\n\nimmer von 11 bis 17 Uhr in der Kleingartenanlage
  Recklinghausen Hochlarmark, Garten 62
LOCATION:Kleingartenanlage Recklinghausen Hochlarmark
DTSTAMP:20260219T100849Z
DTSTART:20260517T090000Z
DTEND:20260517T150000Z
END:VEVENT
END:VCALENDAR
