BEGIN:VCALENDAR
VERSION:2.0
PRODID:https://github.com/derhansen/sf_event_mgt
METHOD:PUBLISH
BEGIN:VEVENT
UID:2446-7593@www.iga2027.ruhr
CLASS: PUBLIC
SUMMARY:Tag des Gartens 2026
DESCRIPTION:Am 12. Juni ist es wieder so weit: In Westerfilde & Bodelschwin
 gh dreht sich alles um grüne Oasen, blühende Ideen und lebendige Nachbarsch
 aft. Überall im Quartier öffnen Gärten und Plätze ihre Türen und laden dazu
  ein, gemeinsam zu pflanzen, zu entdecken und einfach eine gute Zeit mitein
 ander zu verbringen.\n\nOb kreative Mitmachaktionen für Kinder, spannende W
 orkshops, gemeinsames Gärtnern oder entspannte Begegnungen bei Kaffee und M
 usik – beim Tag des Gartens ist für alle etwas dabei. Kommt vorbei, macht m
 it und erlebt, wie vielfältig und lebendig der Stadtteil ist!\n\nDie Progra
 mmübersicht und weitere Infos findet ihr hier: Tag des Gartens 2026\n\nDer 
 im Rahmen unseres “100 Wohngärten”-Projekts ausgezeichnete Piko-Park im Von
 ovia-Quartier in Westerfilde als wichtiger Treffpunkt im Quartier ist auch 
 dabei!
LOCATION:Quartier Dortmund-Westfilde & Bodelschwingh
DTSTAMP:20260421T080014Z
DTSTART:20260612T073000Z
DTEND:20260612T200000Z
END:VEVENT
END:VCALENDAR
