BEGIN:VCALENDAR
VERSION:2.0
PRODID:https://github.com/derhansen/sf_event_mgt
METHOD:PUBLISH
BEGIN:VEVENT
UID:2447-7593@www.iga2027.ruhr
CLASS: PUBLIC
SUMMARY:Tee aus aller Welt – AWO like
DESCRIPTION:Eine Reise durch die vielfältige Welt des Tees erwartet die Bes
 ucherinnen und Besucher bei dieser besonderen Verkostung. Menschen aus vers
 chiedenen Kulturen stellen ihre ganz persönlichen Lieblingstees vor – von g
 riechischem Bergtee über türkischen Schwarztee bis hin zu englischer Teekul
 tur und weiteren internationalen Spezialitäten.\n\nIn kleinen Beiträgen und
  Interviews erzählen die Teilnehmenden, was ihren Tee besonders macht und w
 elche Geschichten oder Traditionen damit verbunden sind.\n\nNeben der Verko
 stung gibt es einen kleinen Imbiss mit Teegebäck sowie Spielmöglichkeiten f
 ür Kinder, sodass sich die Veranstaltung an Gäste aller Altersgruppen richt
 et.
LOCATION:Pop-Up-IGA Gelsenkirchen
DTSTAMP:20260421T094634Z
DTSTART:20260511T120000Z
DTEND:20260511T140000Z
END:VEVENT
END:VCALENDAR
