BEGIN:VCALENDAR
VERSION:2.0
PRODID:https://github.com/derhansen/sf_event_mgt
METHOD:PUBLISH
BEGIN:VEVENT
UID:2007-7593@www.iga2027.ruhr
CLASS: PUBLIC
SUMMARY:Tee-Workshop in Dortmund
DESCRIPTION:2027 findet die Internationale Gartenausstellung im Ruhrgebiet 
 statt – und Dortmund ist mit dabei. Im Zukunftsgarten Dortmund dreht sich i
 n einem Jahr alles darum, wie wir morgen leben wollen. Wir von der Ebene ME
 IN GARTEN sind schon jetzt in der Stadt unterwegs, wollen Euch miteinbezieh
 en und Eure Meinung wissen.Wie schmeckt eigentlich Dortmund?\n\nKinder und 
 Jugendliche aus Dortmund haben die Pflanzenwelt ihrer Quartiere erforscht. 
 \n\nJetzt seid Ihr dran - beim großen Tee-Tasting! Hier könnt Ihr die in Do
 rtmund entdeckten Wildkräuter und -pflanzen näher kennenlernen, als biologi
 sch angebaute Teekräutersorten probieren und uns erzählen, welche Euch am b
 esten schmecken. Wir erstellen daraus im Anschluss die ganz eigene Dortmund
 er Tee-Mischung. Sie wird ab Juli in der Pop-Up-IGA in der Innenstadt ausge
 schenkt und später auch im Zukunftsgarten Dortmund zur Verfügung stehen.Uns
 er Ziel: Bis zur IGA 2027 wollen wir unsere eigenen heimischen Teemischunge
 n für Duisburg, Gelsenkirchen und Dortmund kreieren.Hier findet Ihr weitere
  Infos zum Projekt: 1 Quadratmeter IGA 2027\n\nMeldet Euch an und kommt vor
 bei!
LOCATION:Welthaus Dortmund e.V.
DTSTAMP:20260421T063155Z
DTSTART:20260530T100000Z
DTEND:20260530T130000Z
END:VEVENT
END:VCALENDAR
