BEGIN:VCALENDAR
VERSION:2.0
PRODID:https://github.com/derhansen/sf_event_mgt
METHOD:PUBLISH
BEGIN:VEVENT
UID:2258-7593@www.iga2027.ruhr
CLASS: PUBLIC
SUMMARY:Vortrag K.L.U.G.e Umwelt
DESCRIPTION:In diesem Vortrag greift Sybille Hellier genau diese Frage auf 
 und zeigt praxisnahe Möglichkeiten, wie jede*r im Alltag einen Beitrag leis
 ten kann. Dabei werden unterschiedliche Themenbereiche beleuchtet, darunter
  verantwortungsvolle Müllentsorgung, kreative Ansätze des Upcyclings, die O
 rganisation und Teilnahme an Clean-up-Aktionen sowie die Nutzung der App GE
 -meldet zur Meldung von Umwelt- und Ordnungsproblemen.\n\nDie Veranstaltung
  bietet Impulse, konkrete Handlungsideen und Raum für Austausch. Ziel ist e
 s, Motivation zu schaffen, Eigeninitiative zu fördern und gemeinsames Engag
 ement für Umwelt- und Naturschutz zu stärken.
LOCATION:Pop-Up-IGA Gelsenkirchen
DTSTAMP:20260327T102510Z
DTSTART:20260507T150000Z
DTEND:20260507T170000Z
END:VEVENT
END:VCALENDAR
