BEGIN:VCALENDAR
VERSION:2.0
PRODID:https://github.com/derhansen/sf_event_mgt
METHOD:PUBLISH
BEGIN:VEVENT
UID:2259-7593@www.iga2027.ruhr
CLASS: PUBLIC
SUMMARY:Vortrag Mehr Grün fürs Stadtklima
DESCRIPTION:In diesem Vortrag zeigen Sybille Hellier und Miriam Lambert – S
 taatlich geprüfte Technikerin für Garten- und Landschaftsbau sowie zertifiz
 ierte Klimaanpassungsberaterin – wie einfach es ist, durch zusätzliches „GR
 ÜN“ aktiv zum Stadtklima beizutragen.\n\nAnhand anschaulicher Beispiele wir
 d erläutert, welche konkreten Maßnahmen Bürger*innen selbst umsetzen können
 : von Blumenkästen und Hochbeeten über die Begrünung von Baumscheiben bis h
 in zu Baum- und Pflegepatenschaften. Ziel der Veranstaltung ist es, praktis
 che Möglichkeiten aufzuzeigen, Hemmschwellen abzubauen und dazu zu motivier
 en, die eigene Stadt aktiv und nachhaltig mitzugestalten.
LOCATION:Pop-Up-IGA Gelsenkirchen
DTSTAMP:20260327T102613Z
DTSTART:20260604T150000Z
DTEND:20260604T163000Z
END:VEVENT
END:VCALENDAR
