BEGIN:VCALENDAR
VERSION:2.0
PRODID:https://github.com/derhansen/sf_event_mgt
METHOD:PUBLISH
BEGIN:VEVENT
UID:2344-7593@www.iga2027.ruhr
CLASS: PUBLIC
SUMMARY:Wanderausstellung „Naturgarten"
DESCRIPTION:Die Wanderausstellung „Naturgarten“ lädt Besucherinnen und Besu
 cher dazu ein, die faszinierende Welt naturnaher Gärten zu entdecken und ih
 re Bedeutung für Biodiversität und Lebensqualität neu zu verstehen. \n\nIm 
 Mittelpunkt stehen zentrale Themen wie die Bedeutung der biologischen Vielf
 alt als Lebensgrundlage, die Gestaltung und Pflege naturnaher Gärten sowie 
 der besondere Wert heimischer Wildpflanzen. Die Ausstellung zeigt, wie arte
 nreiche Wiesen, Säume, Hecken und Gehölze im Siedlungsraum wertvolle Lebens
 räume für Tiere und Pflanzen schaffen und gleichzeitig das direkte Umfeld d
 es Menschen bereichern.\n\nDarüber hinaus gibt sie praxisnahe Einblicke, wi
 e ein Naturgarten gelingen kann, und macht deutlich, welche positiven Auswi
 rkungen naturnahe Gestaltung auf Klima, Artenvielfalt und das eigene Wohlbe
 finden hat. Ziel ist es, Menschen zu inspirieren und zu motivieren, selbst 
 aktiv zu werden und vor der eigenen Haustür einen Beitrag zum Erhalt unsere
 r natürlichen Lebensgrundlagen zu leisten.  \n\nDie Ausstellung richtet sic
 h an alle Interessierten – von Einsteigerinnen und Einsteigern bis hin zu G
 artenbegeisterten – und macht deutlich: Jeder Garten kann ein wertvoller Le
 bensraum sein.
LOCATION:Pop-Up-IGA Gelsenkirchen
DTSTAMP:20260327T102555Z
DTSTART:20260528T120000Z
DTEND:20260611T160000Z
END:VEVENT
END:VCALENDAR
