BEGIN:VCALENDAR
VERSION:2.0
PRODID:https://github.com/derhansen/sf_event_mgt
METHOD:PUBLISH
BEGIN:VEVENT
UID:2343-7593@www.iga2027.ruhr
CLASS: PUBLIC
SUMMARY:Weltacker - 2000m² für alle!
DESCRIPTION:Auf 2000 m² demonstrieren mittlerweile 40 Weltäcker rund um den
  Globus die Verhältnisse globaler Landwirtschaft und stellen die Welt auf e
 inem Acker dar. Doch was ist ein Weltacker genau und welche Bildungsinhalte
  werden auf den Äckern vermittelt? Warum braucht es diese Bildungsorte? In 
 diesem Workshop werden wir uns interaktiv den Bildungsinhalten und -methode
 n des Weltackers nähern. Außerdem erfahrt Ihr, wie Ihr selber einen Weltack
 er - aufbauen könnt: Was braucht es, was bietet das Weltacker-Netzwerk? 
LOCATION:Pop-Up-IGA Gelsenkirchen
DTSTAMP:20260327T102535Z
DTSTART:20260509T100000Z
DTEND:20260509T133000Z
END:VEVENT
END:VCALENDAR
