BEGIN:VCALENDAR
VERSION:2.0
PRODID:https://github.com/derhansen/sf_event_mgt
METHOD:PUBLISH
BEGIN:VEVENT
UID:2342-7593@www.iga2027.ruhr
CLASS: PUBLIC
SUMMARY:Weltacker-Wanderausstellung
DESCRIPTION:Teilen wir die rund 1,6 Milliarden Hektar weltweiter Ackerfläch
 e durch die Zahl der Menschen auf der Erde, so erhält jeder Mensch 2000 m².
  Auf diesem Ackerland muss alles wachsen, was wir über das Jahr hinweg kons
 umieren. Auf mittlerweile 40 Weltacker-Bildungsorten wird die globale Landw
 irtschaft auf diesen 2000 m² demonstriert. Die Wanderausstellung führt durc
 h die zentralen Themen der Weltäcker – von den globalen Herausforderungen, 
 über Biodiversität und Bodengesundheit bis hin zu gesunder und nachhaltiger
  Ernährung. \n\n\n\n
LOCATION:Pop-Up-IGA Gelsenkirchen
DTSTAMP:20260327T102451Z
DTSTART:20260502T090000Z
DTEND:20260523T150000Z
END:VEVENT
END:VCALENDAR
