BEGIN:VCALENDAR
VERSION:2.0
PRODID:https://github.com/derhansen/sf_event_mgt
METHOD:PUBLISH
BEGIN:VEVENT
UID:2402-9442@www.iga2027.ruhr
CLASS: PUBLIC
SUMMARY:Tag der Städtebauförderung in Dortmund
DESCRIPTION:Bis zur IGA 2027 entstehen nördlich davon die Gartenschauparzel
 len und der Kokereipark – eine neue, öffentliche Parkanlage, die dauerhaft 
 bestehen bleibt. Gleichzeitig werden der Bahnhof Mooskamp und der benachbar
 te Deusenberg aufgewertet. Eine neue Brücke verbindet künftig den Kokereipa
 rk mit dem Deusenberg. In drei Rundgängen über die Baustelle erhalten Inter
 essierte Einblicke in die bereits laufenden Pflanz- und Bauprojekte.\n\nFüh
 rungen:\n\nStart: 11:00, 13:00 und 15:00 Uhr\n\nDauer: Jeweils ca. 90 Minut
 en\n\nHinweis: Festes Schuhwerk erforderlich!\n\n\n\nWeitere Informationen 
 unter:\n\ndortmund.de/iga2027\n\nindustriedenkmal-stiftung.de\n\n\n\n
LOCATION:Infopunkt Kokerei Hansa
DTSTAMP:20260413T111036Z
DTSTART:20260509T090000Z
DTEND:20260509T130000Z
END:VEVENT
END:VCALENDAR
