BEGIN:VCALENDAR
VERSION:2.0
PRODID:https://github.com/derhansen/sf_event_mgt
METHOD:PUBLISH
BEGIN:VEVENT
UID:2428-9442@www.iga2027.ruhr
CLASS: PUBLIC
SUMMARY:Führungen durch den Duisburger Rheinpark
DESCRIPTION:Wer sehen möchte, was vor Ort alles passiert, kann an verschied
 enen Führungen teilnehmen. Die Wirtschaftsbetriebe Duisburg bieten Rundgäng
 e an und geben Einblicke in die aktuellen Entwicklungen.\n\nBei den Führung
 en wird sichtbar, wie sich der Park verändert und welche Projekte das Areal
  bereits heute prägen. So erfahren die Teilnehmenden mehr über den Umbau de
 s Kultushafens, wo ein neuer Freiraum am Wasser entsteht, über die neugesta
 ltete Hochfeldallee als neuen Zugang zum Park und über den Skywalk, der neu
 e Ausblicke auf den Rhein eröffnet.\n\nAn den Führungen können pro Termin m
 aximal 20 Personen teilnehmen. Der Eintritt ist frei, Anmeldung per Mail an
  anmeldung@wb-duisburg.de. Interessierte erhalten eine Rückmeldung, wenn si
 e an der Führung teilnehmen können. \n\nAufgrund der Baustellen-Tätigkeiten
  ist das Tragen von festem Schuhwerk verpflichtend! \n\nDiese Führung wird 
 vom Vorstand der Wirtschaftsbetriebe Duisburg, Sebastian Beck übernommen.\n
 \nTerminübersicht\n\nSamstags von 11 bis 13 Uhr:\n\nSamstag, 11. April (aus
 gebucht)Samstag, 25. April (ausgebucht)Samstag, 9. Mai / (ausgebucht)Samsta
 g, 30. Mai / 11-13 Uhr \n\nFeierabendrundgänge in der Zeit von 17 bis 19 Uh
 r:\n\nDonnerstag, 16. April / 17-19 UhrDonnerstag, 30. April / 17-19 UhrMit
 twoch, 13. Mai / 17-19 UhrMittwoch, 27. Mai / 17-19 Uhr \n\nEin besonderer 
 Termin im Rahmen des Angebots ist eine Führung mit Oberbürgermeister Sören 
 Link, der den Rundgang persönlich begleiten wird:\n\nDonnerstag, 20. August
  / 18-20 Uhr \n\nFolgende Führungen werden vom Vorstand der Wirtschaftsbetr
 iebe Duisburg, Sebastian Beck übernommen:\n\nSamstag, 4. Juli / 11-13 UhrSo
 nntag, 5. Juli / 11-13 UhrSamstag, 5. September / 11-13 Uhr
LOCATION:RheinPark Duisburg (Zukunftsgarten)
DTSTAMP:20260416T135341Z
DTSTART:20260905T090000Z
DTEND:20260905T110000Z
END:VEVENT
END:VCALENDAR
